Package: graph Version: 1.80.0 Command: rm -rf graph.buildbin-libdir && mkdir graph.buildbin-libdir && /Users/biocbuild/BBS/utils/build-universal.sh graph_1.80.0.tar.gz /Library/Frameworks/R.framework/Resources/bin/R graph.buildbin-libdir StartedAt: 2024-04-16 11:53:10 -0400 (Tue, 16 Apr 2024) EndedAt: 2024-04-16 11:53:55 -0400 (Tue, 16 Apr 2024) EllapsedTime: 44.9 seconds RetCode: 0 Status: OK PackageFile: graph_1.80.0.tgz PackageFileSize: 2.092 MiB