Package: graph Version: 1.80.0 Command: /Library/Frameworks/R.framework/Resources/bin/R CMD build --keep-empty-dirs --no-resave-data graph StartedAt: 2024-04-15 19:08:06 -0400 (Mon, 15 Apr 2024) EndedAt: 2024-04-15 19:09:19 -0400 (Mon, 15 Apr 2024) EllapsedTime: 72.5 seconds RetCode: 0 Status: OK PackageFile: graph_1.80.0.tar.gz PackageFileSize: 1.435 MiB