Package: graph Version: 1.80.0 Command: chmod a+r graph -R && F:\biocbuild\bbs-3.18-bioc\R\bin\R.exe CMD build --keep-empty-dirs --no-resave-data graph StartedAt: 2024-04-15 18:53:31 -0400 (Mon, 15 Apr 2024) EndedAt: 2024-04-15 18:54:29 -0400 (Mon, 15 Apr 2024) EllapsedTime: 57.8 seconds RetCode: 0 Status: OK PackageFile: graph_1.80.0.tar.gz PackageFileSize: 1.394 MiB