Package: groHMM Version: 1.36.0 Command: /Library/Frameworks/R.framework/Resources/bin/R CMD build --keep-empty-dirs --no-resave-data groHMM StartedAt: 2024-04-15 19:09:59 -0400 (Mon, 15 Apr 2024) EndedAt: 2024-04-15 19:14:53 -0400 (Mon, 15 Apr 2024) EllapsedTime: 293.9 seconds RetCode: 0 Status: OK PackageFile: groHMM_1.36.0.tar.gz PackageFileSize: 4.153 MiB