Package: groHMM Version: 1.36.0 Command: /home/biocbuild/bbs-3.18-bioc/R/bin/R CMD INSTALL groHMM StartedAt: 2024-04-15 15:18:53 -0400 (Mon, 15 Apr 2024) EndedAt: 2024-04-15 15:19:25 -0400 (Mon, 15 Apr 2024) EllapsedTime: 31.8 seconds RetCode: 0 Status: OK