Package: gwasurvivr Version: 1.20.0 Command: /home/biocbuild/R/R-4.3.1/bin/R CMD check --install=check:gwasurvivr.install-out.txt --library=/home/biocbuild/R/R-4.3.1/site-library --no-vignettes --timings gwasurvivr_1.20.0.tar.gz StartedAt: 2023-11-02 11:12:41 -0000 (Thu, 02 Nov 2023) EndedAt: 2023-11-02 11:21:57 -0000 (Thu, 02 Nov 2023) EllapsedTime: 555.9 seconds RetCode: 0 Status: OK CheckDir: gwasurvivr.Rcheck Warnings: 0