Package: gwasurvivr Version: 1.20.0 Command: /Library/Frameworks/R.framework/Resources/bin/R CMD build --keep-empty-dirs --no-resave-data gwasurvivr StartedAt: 2024-04-15 19:15:05 -0400 (Mon, 15 Apr 2024) EndedAt: 2024-04-15 19:20:32 -0400 (Mon, 15 Apr 2024) EllapsedTime: 327.6 seconds RetCode: 0 Status: OK PackageFile: gwasurvivr_1.20.0.tar.gz PackageFileSize: 343.1 KiB