Package: hca Version: 1.10.0 Command: /home/biocbuild/R/R-4.3.1/bin/R CMD build --keep-empty-dirs --no-resave-data hca StartedAt: 2023-11-02 02:00:18 -0000 (Thu, 02 Nov 2023) EndedAt: 2023-11-02 02:03:21 -0000 (Thu, 02 Nov 2023) EllapsedTime: 183.3 seconds RetCode: 0 Status: OK PackageFile: hca_1.10.0.tar.gz PackageFileSize: 537.1 KiB