Package: hermes Version: 1.6.1 Command: rm -rf hermes.buildbin-libdir && mkdir hermes.buildbin-libdir && F:\biocbuild\bbs-3.18-bioc\R\bin\R.exe CMD INSTALL --build --library=hermes.buildbin-libdir hermes_1.6.1.tar.gz StartedAt: 2024-04-16 07:08:02 -0400 (Tue, 16 Apr 2024) EndedAt: 2024-04-16 07:09:06 -0400 (Tue, 16 Apr 2024) EllapsedTime: 64.5 seconds RetCode: 0 Status: OK PackageFile: hermes_1.6.1.zip PackageFileSize: 3.425 MiB