Package: hicVennDiagram Version: 1.0.2 Command: rm -rf hicVennDiagram.buildbin-libdir && mkdir hicVennDiagram.buildbin-libdir && /Users/biocbuild/BBS/utils/build-universal.sh hicVennDiagram_1.0.2.tar.gz /Library/Frameworks/R.framework/Resources/bin/R hicVennDiagram.buildbin-libdir StartedAt: 2024-04-16 11:57:19 -0400 (Tue, 16 Apr 2024) EndedAt: 2024-04-16 11:59:24 -0400 (Tue, 16 Apr 2024) EllapsedTime: 125.0 seconds RetCode: 0 Status: OK PackageFile: hicVennDiagram_1.0.2.tgz PackageFileSize: 1.438 MiB