Package: hicVennDiagram Version: 1.0.2 Command: chmod a+r hicVennDiagram -R && F:\biocbuild\bbs-3.18-bioc\R\bin\R.exe CMD build --keep-empty-dirs --no-resave-data hicVennDiagram StartedAt: 2024-04-15 19:02:11 -0400 (Mon, 15 Apr 2024) EndedAt: 2024-04-15 19:03:18 -0400 (Mon, 15 Apr 2024) EllapsedTime: 67.4 seconds RetCode: 0 Status: OK PackageFile: hicVennDiagram_1.0.2.tar.gz PackageFileSize: 849.8 KiB