Package: hierGWAS Version: 1.32.0 Command: /home/biocbuild/R/R-4.3.1/bin/R CMD build --keep-empty-dirs --no-resave-data hierGWAS StartedAt: 2023-11-02 02:05:12 -0000 (Thu, 02 Nov 2023) EndedAt: 2023-11-02 02:07:16 -0000 (Thu, 02 Nov 2023) EllapsedTime: 124.2 seconds RetCode: 0 Status: OK PackageFile: hierGWAS_1.32.0.tar.gz PackageFileSize: 555.9 KiB