Package: hierGWAS Version: 1.32.0 Command: /home/biocbuild/R/R-4.3.1/bin/R CMD INSTALL hierGWAS StartedAt: 2023-11-01 20:43:25 -0000 (Wed, 01 Nov 2023) EndedAt: 2023-11-01 20:43:33 -0000 (Wed, 01 Nov 2023) EllapsedTime: 8.0 seconds RetCode: 0 Status: OK