Package: hierGWAS Version: 1.32.0 Command: rm -rf hierGWAS.buildbin-libdir && mkdir hierGWAS.buildbin-libdir && /Users/biocbuild/BBS/utils/build-universal.sh hierGWAS_1.32.0.tar.gz /Library/Frameworks/R.framework/Resources/bin/R hierGWAS.buildbin-libdir StartedAt: 2024-03-04 00:45:30 -0500 (Mon, 04 Mar 2024) EndedAt: 2024-03-04 00:45:42 -0500 (Mon, 04 Mar 2024) EllapsedTime: 11.5 seconds RetCode: 0 Status: OK PackageFile: hierGWAS_1.32.0.tgz PackageFileSize: 544.7 KiB