Package: hierGWAS Version: 1.32.0 Command: /Library/Frameworks/R.framework/Resources/bin/R CMD build --keep-empty-dirs --no-resave-data hierGWAS StartedAt: 2024-03-03 17:02:28 -0500 (Sun, 03 Mar 2024) EndedAt: 2024-03-03 17:03:54 -0500 (Sun, 03 Mar 2024) EllapsedTime: 85.9 seconds RetCode: 0 Status: OK PackageFile: hierGWAS_1.32.0.tar.gz PackageFileSize: 566.3 KiB