Package: hierGWAS Version: 1.32.0 Command: /Library/Frameworks/R.framework/Resources/bin/R CMD INSTALL hierGWAS StartedAt: 2024-03-03 15:31:11 -0500 (Sun, 03 Mar 2024) EndedAt: 2024-03-03 15:31:20 -0500 (Sun, 03 Mar 2024) EllapsedTime: 8.9 seconds RetCode: 0 Status: OK