Package: hierGWAS Version: 1.32.0 Command: /home/biocbuild/bbs-3.18-bioc/R/bin/R CMD check --install=check:hierGWAS.install-out.txt --library=/home/biocbuild/bbs-3.18-bioc/R/site-library --timings hierGWAS_1.32.0.tar.gz StartedAt: 2024-04-15 23:45:49 -0400 (Mon, 15 Apr 2024) EndedAt: 2024-04-15 23:49:37 -0400 (Mon, 15 Apr 2024) EllapsedTime: 227.6 seconds RetCode: 0 Status: WARNINGS CheckDir: hierGWAS.Rcheck Warnings: 1