Package: hierGWAS Version: 1.32.0 Command: /home/biocbuild/bbs-3.18-bioc/R/bin/R CMD INSTALL hierGWAS StartedAt: 2024-04-15 15:35:03 -0400 (Mon, 15 Apr 2024) EndedAt: 2024-04-15 15:35:09 -0400 (Mon, 15 Apr 2024) EllapsedTime: 6.6 seconds RetCode: 0 Status: OK