Package: hierGWAS Version: 1.32.0 Command: F:\biocbuild\bbs-3.18-bioc\R\bin\R.exe CMD INSTALL hierGWAS StartedAt: 2024-04-15 16:21:38 -0400 (Mon, 15 Apr 2024) EndedAt: 2024-04-15 16:21:50 -0400 (Mon, 15 Apr 2024) EllapsedTime: 12.5 seconds RetCode: 0 Status: OK