Package: hierinf Version: 1.20.0 Command: rm -rf hierinf.buildbin-libdir && mkdir hierinf.buildbin-libdir && F:\biocbuild\bbs-3.18-bioc\R\bin\R.exe CMD INSTALL --build --library=hierinf.buildbin-libdir hierinf_1.20.0.tar.gz StartedAt: 2024-04-16 07:08:27 -0400 (Tue, 16 Apr 2024) EndedAt: 2024-04-16 07:08:32 -0400 (Tue, 16 Apr 2024) EllapsedTime: 5.9 seconds RetCode: 0 Status: OK PackageFile: hierinf_1.20.0.zip PackageFileSize: 492.3 KiB