Package: hmdbQuery Version: 1.22.0 Command: rm -rf hmdbQuery.buildbin-libdir && mkdir hmdbQuery.buildbin-libdir && /Users/biocbuild/BBS/utils/build-universal.sh hmdbQuery_1.22.0.tar.gz /Library/Frameworks/R.framework/Resources/bin/R hmdbQuery.buildbin-libdir StartedAt: 2024-03-04 00:45:45 -0500 (Mon, 04 Mar 2024) EndedAt: 2024-03-04 00:45:57 -0500 (Mon, 04 Mar 2024) EllapsedTime: 11.4 seconds RetCode: 0 Status: OK PackageFile: hmdbQuery_1.22.0.tgz PackageFileSize: 887.2 KiB