Package: hmdbQuery Version: 1.22.0 Command: /Library/Frameworks/R.framework/Resources/bin/R CMD build --keep-empty-dirs --no-resave-data hmdbQuery StartedAt: 2024-03-03 17:03:18 -0500 (Sun, 03 Mar 2024) EndedAt: 2024-03-03 17:03:46 -0500 (Sun, 03 Mar 2024) EllapsedTime: 28.3 seconds RetCode: 0 Status: OK PackageFile: hmdbQuery_1.22.0.tar.gz PackageFileSize: 749.3 KiB