Package: hmdbQuery Version: 1.22.0 Command: /Library/Frameworks/R.framework/Resources/bin/R CMD check --install=check:hmdbQuery.install-out.txt --library=/Library/Frameworks/R.framework/Resources/library --no-vignettes --timings hmdbQuery_1.22.0.tar.gz StartedAt: 2024-03-03 21:10:36 -0500 (Sun, 03 Mar 2024) EndedAt: 2024-03-03 21:11:58 -0500 (Sun, 03 Mar 2024) EllapsedTime: 82.5 seconds RetCode: 0 Status: OK CheckDir: hmdbQuery.Rcheck Warnings: 0