Package: hmdbQuery Version: 1.22.0 Command: /Library/Frameworks/R.framework/Resources/bin/R CMD INSTALL hmdbQuery StartedAt: 2024-03-03 15:06:01 -0500 (Sun, 03 Mar 2024) EndedAt: 2024-03-03 15:06:23 -0500 (Sun, 03 Mar 2024) EllapsedTime: 22.1 seconds RetCode: 0 Status: OK