Package: hmdbQuery Version: 1.22.0 Command: /Library/Frameworks/R.framework/Resources/bin/R CMD build --keep-empty-dirs --no-resave-data hmdbQuery StartedAt: 2024-04-15 19:22:16 -0400 (Mon, 15 Apr 2024) EndedAt: 2024-04-15 19:23:15 -0400 (Mon, 15 Apr 2024) EllapsedTime: 59.1 seconds RetCode: 0 Status: OK PackageFile: hmdbQuery_1.22.0.tar.gz PackageFileSize: 749.2 KiB