Package: hmdbQuery Version: 1.22.0 Command: rm -rf hmdbQuery.buildbin-libdir && mkdir hmdbQuery.buildbin-libdir && F:\biocbuild\bbs-3.18-bioc\R\bin\R.exe CMD INSTALL --build --library=hmdbQuery.buildbin-libdir hmdbQuery_1.22.0.tar.gz StartedAt: 2024-04-16 07:08:45 -0400 (Tue, 16 Apr 2024) EndedAt: 2024-04-16 07:08:58 -0400 (Tue, 16 Apr 2024) EllapsedTime: 12.6 seconds RetCode: 0 Status: OK PackageFile: hmdbQuery_1.22.0.zip PackageFileSize: 890.3 KiB