Package: hmdbQuery Version: 1.22.0 Command: chmod a+r hmdbQuery -R && F:\biocbuild\bbs-3.18-bioc\R\bin\R.exe CMD build --keep-empty-dirs --no-resave-data hmdbQuery StartedAt: 2024-04-15 19:02:49 -0400 (Mon, 15 Apr 2024) EndedAt: 2024-04-15 19:03:17 -0400 (Mon, 15 Apr 2024) EllapsedTime: 28.2 seconds RetCode: 0 Status: OK PackageFile: hmdbQuery_1.22.0.tar.gz PackageFileSize: 749.3 KiB