Package: hopach Version: 2.62.0 Command: /home/biocbuild/R/R-4.3.1/bin/R CMD check --install=check:hopach.install-out.txt --library=/home/biocbuild/R/R-4.3.1/site-library --no-vignettes --timings hopach_2.62.0.tar.gz StartedAt: 2023-11-02 11:20:43 -0000 (Thu, 02 Nov 2023) EndedAt: 2023-11-02 11:22:08 -0000 (Thu, 02 Nov 2023) EllapsedTime: 85.1 seconds RetCode: 0 Status: OK CheckDir: hopach.Rcheck Warnings: 0