Package: hopach Version: 2.62.0 Command: /home/biocbuild/R/R-4.3.1/bin/R CMD INSTALL hopach StartedAt: 2023-11-01 20:04:53 -0000 (Wed, 01 Nov 2023) EndedAt: 2023-11-01 20:05:18 -0000 (Wed, 01 Nov 2023) EllapsedTime: 24.7 seconds RetCode: 0 Status: OK