Package: hopach Version: 2.62.0 Command: rm -rf hopach.buildbin-libdir && mkdir hopach.buildbin-libdir && /Users/biocbuild/BBS/utils/build-universal.sh hopach_2.62.0.tar.gz /Library/Frameworks/R.framework/Resources/bin/R hopach.buildbin-libdir StartedAt: 2024-04-16 11:58:34 -0400 (Tue, 16 Apr 2024) EndedAt: 2024-04-16 11:58:59 -0400 (Tue, 16 Apr 2024) EllapsedTime: 24.4 seconds RetCode: 0 Status: OK PackageFile: hopach_2.62.0.tgz PackageFileSize: 1.069 MiB