Package: hyperdraw Version: 1.54.0 Command: /home/biocbuild/R/R-4.3.1/bin/R CMD build --keep-empty-dirs --no-resave-data hyperdraw StartedAt: 2023-11-02 02:14:56 -0000 (Thu, 02 Nov 2023) EndedAt: 2023-11-02 02:15:06 -0000 (Thu, 02 Nov 2023) EllapsedTime: 10.0 seconds RetCode: 0 Status: OK PackageFile: hyperdraw_1.54.0.tar.gz PackageFileSize: 197.2 KiB