Package: hyperdraw Version: 1.54.0 Command: rm -rf hyperdraw.buildbin-libdir && mkdir hyperdraw.buildbin-libdir && /Users/biocbuild/BBS/utils/build-universal.sh hyperdraw_1.54.0.tar.gz /Library/Frameworks/R.framework/Resources/bin/R hyperdraw.buildbin-libdir StartedAt: 2024-04-16 11:59:01 -0400 (Tue, 16 Apr 2024) EndedAt: 2024-04-16 11:59:16 -0400 (Tue, 16 Apr 2024) EllapsedTime: 14.7 seconds RetCode: 0 Status: OK PackageFile: hyperdraw_1.54.0.tgz PackageFileSize: 386.6 KiB