Package: hyperdraw Version: 1.54.0 Command: rm -rf hyperdraw.buildbin-libdir && mkdir hyperdraw.buildbin-libdir && F:\biocbuild\bbs-3.18-bioc\R\bin\R.exe CMD INSTALL --build --library=hyperdraw.buildbin-libdir hyperdraw_1.54.0.tar.gz StartedAt: 2024-04-16 07:09:11 -0400 (Tue, 16 Apr 2024) EndedAt: 2024-04-16 07:09:23 -0400 (Tue, 16 Apr 2024) EllapsedTime: 12.1 seconds RetCode: 0 Status: OK PackageFile: hyperdraw_1.54.0.zip PackageFileSize: 274.7 KiB