Package: iASeq Version: 1.46.0 Command: /home/biocbuild/R/R-4.3.1/bin/R CMD check --install=check:iASeq.install-out.txt --library=/home/biocbuild/R/R-4.3.1/site-library --no-vignettes --timings iASeq_1.46.0.tar.gz StartedAt: 2023-11-02 11:22:25 -0000 (Thu, 02 Nov 2023) EndedAt: 2023-11-02 11:22:47 -0000 (Thu, 02 Nov 2023) EllapsedTime: 22.1 seconds RetCode: 0 Status: OK CheckDir: iASeq.Rcheck Warnings: 0