Package: iASeq Version: 1.46.0 Command: rm -rf iASeq.buildbin-libdir && mkdir iASeq.buildbin-libdir && F:\biocbuild\bbs-3.18-bioc\R\bin\R.exe CMD INSTALL --build --library=iASeq.buildbin-libdir iASeq_1.46.0.tar.gz StartedAt: 2024-04-16 07:09:14 -0400 (Tue, 16 Apr 2024) EndedAt: 2024-04-16 07:09:30 -0400 (Tue, 16 Apr 2024) EllapsedTime: 15.8 seconds RetCode: 0 Status: OK PackageFile: iASeq_1.46.0.zip PackageFileSize: 163.9 KiB