Package: iCARE Version: 1.30.0 Command: /home/biocbuild/bbs-3.18-bioc/R/bin/R CMD INSTALL iCARE StartedAt: 2024-04-15 15:31:31 -0400 (Mon, 15 Apr 2024) EndedAt: 2024-04-15 15:31:38 -0400 (Mon, 15 Apr 2024) EllapsedTime: 6.9 seconds RetCode: 0 Status: OK