Package: iCARE Version: 1.30.0 Command: F:\biocbuild\bbs-3.18-bioc\R\bin\R.exe CMD INSTALL iCARE StartedAt: 2024-04-15 16:15:35 -0400 (Mon, 15 Apr 2024) EndedAt: 2024-04-15 16:15:49 -0400 (Mon, 15 Apr 2024) EllapsedTime: 14.0 seconds RetCode: 0 Status: OK