Package: iCheck Version: 1.32.0 Command: /Library/Frameworks/R.framework/Resources/bin/R CMD build --keep-empty-dirs --no-resave-data iCheck StartedAt: 2024-03-03 17:04:28 -0500 (Sun, 03 Mar 2024) EndedAt: 2024-03-03 17:05:55 -0500 (Sun, 03 Mar 2024) EllapsedTime: 87.0 seconds RetCode: 0 Status: OK PackageFile: iCheck_1.32.0.tar.gz PackageFileSize: 559.5 KiB