Package: iCheck Version: 1.32.0 Command: /Library/Frameworks/R.framework/Resources/bin/R CMD INSTALL iCheck StartedAt: 2024-03-03 15:45:03 -0500 (Sun, 03 Mar 2024) EndedAt: 2024-03-03 15:46:13 -0500 (Sun, 03 Mar 2024) EllapsedTime: 70.7 seconds RetCode: 0 Status: OK