Package: iCheck Version: 1.32.0 Command: /Library/Frameworks/R.framework/Resources/bin/R CMD build --keep-empty-dirs --no-resave-data iCheck StartedAt: 2024-04-15 19:25:04 -0400 (Mon, 15 Apr 2024) EndedAt: 2024-04-15 19:27:36 -0400 (Mon, 15 Apr 2024) EllapsedTime: 151.8 seconds RetCode: 0 Status: OK PackageFile: iCheck_1.32.0.tar.gz PackageFileSize: 559.7 KiB