Package: iSEEhex Version: 1.4.0 Command: /home/biocbuild/R/R-4.3.1/bin/R CMD check --install=check:iSEEhex.install-out.txt --library=/home/biocbuild/R/R-4.3.1/site-library --timings iSEEhex_1.4.0.tar.gz StartedAt: 2023-10-25 12:29:25 -0000 (Wed, 25 Oct 2023) EndedAt: 2023-10-25 12:35:33 -0000 (Wed, 25 Oct 2023) EllapsedTime: 368.6 seconds RetCode: 0 Status: OK CheckDir: iSEEhex.Rcheck Warnings: 0