Package: iSEEhex Version: 1.4.0 Command: /Library/Frameworks/R.framework/Resources/bin/R CMD INSTALL iSEEhex StartedAt: 2024-03-03 15:25:46 -0500 (Sun, 03 Mar 2024) EndedAt: 2024-03-03 15:26:28 -0500 (Sun, 03 Mar 2024) EllapsedTime: 41.9 seconds RetCode: 0 Status: OK