Package: iSEEindex Version: 1.0.0 Command: /Library/Frameworks/R.framework/Resources/bin/R CMD INSTALL iSEEindex StartedAt: 2024-04-15 15:47:55 -0400 (Mon, 15 Apr 2024) EndedAt: 2024-04-15 15:49:03 -0400 (Mon, 15 Apr 2024) EllapsedTime: 67.9 seconds RetCode: 0 Status: OK