Package: iSEEindex
Version: 1.0.0
Command: /home/biocbuild/bbs-3.18-bioc/R/bin/R CMD check --install=check:iSEEindex.install-out.txt --library=/home/biocbuild/bbs-3.18-bioc/R/site-library --timings iSEEindex_1.0.0.tar.gz
StartedAt: 2024-04-16 00:08:05 -0400 (Tue, 16 Apr 2024)
EndedAt: 2024-04-16 00:12:41 -0400 (Tue, 16 Apr 2024)
EllapsedTime: 275.9 seconds
RetCode: 0
Status: OK
CheckDir: iSEEindex.Rcheck
Warnings: 0