Package: iSEEpathways Version: 1.0.0 Command: /home/biocbuild/R/R-4.3.1/bin/R CMD INSTALL iSEEpathways StartedAt: 2023-11-01 20:35:48 -0000 (Wed, 01 Nov 2023) EndedAt: 2023-11-01 20:36:30 -0000 (Wed, 01 Nov 2023) EllapsedTime: 42.4 seconds RetCode: 0 Status: OK