Package: iSEEpathways Version: 1.0.0 Command: chmod a+r iSEEpathways -R && F:\biocbuild\bbs-3.18-bioc\R\bin\R.exe CMD build --keep-empty-dirs --no-resave-data iSEEpathways StartedAt: 2024-04-15 19:12:12 -0400 (Mon, 15 Apr 2024) EndedAt: 2024-04-15 19:16:28 -0400 (Mon, 15 Apr 2024) EllapsedTime: 256.1 seconds RetCode: 0 Status: OK PackageFile: iSEEpathways_1.0.0.tar.gz PackageFileSize: 2.139 MiB