Package: ibh Version: 1.50.0 Command: rm -rf ibh.buildbin-libdir && mkdir ibh.buildbin-libdir && /Users/biocbuild/BBS/utils/build-universal.sh ibh_1.50.0.tar.gz /Library/Frameworks/R.framework/Resources/bin/R ibh.buildbin-libdir StartedAt: 2024-03-04 00:46:07 -0500 (Mon, 04 Mar 2024) EndedAt: 2024-03-04 00:46:13 -0500 (Mon, 04 Mar 2024) EllapsedTime: 5.9 seconds RetCode: 0 Status: OK PackageFile: ibh_1.50.0.tgz PackageFileSize: 156.2 KiB