Package: ibh Version: 1.50.0 Command: /Library/Frameworks/R.framework/Resources/bin/R CMD build --keep-empty-dirs --no-resave-data ibh StartedAt: 2024-03-03 17:04:22 -0500 (Sun, 03 Mar 2024) EndedAt: 2024-03-03 17:04:32 -0500 (Sun, 03 Mar 2024) EllapsedTime: 10.1 seconds RetCode: 0 Status: OK PackageFile: ibh_1.50.0.tar.gz PackageFileSize: 127.4 KiB