Package: ibh Version: 1.50.0 Command: /Library/Frameworks/R.framework/Resources/bin/R CMD INSTALL ibh StartedAt: 2024-03-03 15:05:26 -0500 (Sun, 03 Mar 2024) EndedAt: 2024-03-03 15:05:50 -0500 (Sun, 03 Mar 2024) EllapsedTime: 24.0 seconds RetCode: 0 Status: OK