Package: ibh Version: 1.50.0 Command: /home/biocbuild/bbs-3.18-bioc/R/bin/R CMD build --keep-empty-dirs --no-resave-data ibh StartedAt: 2024-04-15 17:33:05 -0400 (Mon, 15 Apr 2024) EndedAt: 2024-04-15 17:33:10 -0400 (Mon, 15 Apr 2024) EllapsedTime: 5.3 seconds RetCode: 0 Status: OK PackageFile: ibh_1.50.0.tar.gz PackageFileSize: 127.5 KiB